BEGIN:VCALENDAR
VERSION:2.0
PRODID:-//Coffs Harbour Student Association - ECPv4.9.13//NONSGML v1.0//EN
CALSCALE:GREGORIAN
METHOD:PUBLISH
X-WR-CALNAME:Coffs Harbour Student Association
X-ORIGINAL-URL:https://scuchsa.com.au
X-WR-CALDESC:Events for Coffs Harbour Student Association
BEGIN:VTIMEZONE
TZID:Australia/Sydney
BEGIN:STANDARD
TZOFFSETFROM:+1100
TZOFFSETTO:+1000
TZNAME:AEST
DTSTART:20200404T160000
END:STANDARD
BEGIN:DAYLIGHT
TZOFFSETFROM:+1000
TZOFFSETTO:+1100
TZNAME:AEDT
DTSTART:20201003T160000
END:DAYLIGHT
END:VTIMEZONE
BEGIN:VEVENT
DTSTART;TZID=Australia/Sydney:20200302T100000
DTEND;TZID=Australia/Sydney:20200302T110000
DTSTAMP:20200227T184252
CREATED:20200130T032857Z
LAST-MODIFIED:20200130T035857Z
UID:7716-1583143200-1583146800@scuchsa.com.au
SUMMARY:Toastie Mondays!
DESCRIPTION:Toastie Monday!\nMake your own ham\, cheese & tomato toasted sandwich in the University lounge. \nIngredients available from 10am \nGF and Vego options available \n \n
URL:https://scuchsa.com.au/event/toasty-mondays/
LOCATION:SCU Uni Lounge\, CHEC Hogbin Drive\, Coffs Harbour\, N\, 2450\, Australia
CATEGORIES:Free food
ORGANIZER;CN="CHSA":MAILTO:chsa@scu.edu.au
END:VEVENT
END:VCALENDAR