BEGIN:VCALENDAR
VERSION:2.0
PRODID:-//Coffs Harbour Student Association - ECPv4.9.13//NONSGML v1.0//EN
CALSCALE:GREGORIAN
METHOD:PUBLISH
X-WR-CALNAME:Coffs Harbour Student Association
X-ORIGINAL-URL:https://scuchsa.com.au
X-WR-CALDESC:Events for Coffs Harbour Student Association
BEGIN:VTIMEZONE
TZID:Australia/Sydney
BEGIN:STANDARD
TZOFFSETFROM:+1100
TZOFFSETTO:+1000
TZNAME:AEST
DTSTART:20200404T160000
END:STANDARD
BEGIN:DAYLIGHT
TZOFFSETFROM:+1000
TZOFFSETTO:+1100
TZNAME:AEDT
DTSTART:20201003T160000
END:DAYLIGHT
END:VTIMEZONE
BEGIN:VEVENT
DTSTART;TZID=Australia/Sydney:20200305T113000
DTEND;TZID=Australia/Sydney:20200305T123000
DTSTAMP:20200227T184357
CREATED:20200220T042516Z
LAST-MODIFIED:20200220T042516Z
UID:8003-1583407800-1583411400@scuchsa.com.au
SUMMARY:Grilled Thursday!
DESCRIPTION:Grilled Thursday!\nYou asked we listened! 😋🥪🙌🏽 Starting on Thursday the 5th of March we will be providing ingredients for DIY grilled sandwiches.\nIngredients available in the Uni lounge from 11.30am. Limited quantities available so get in quick to avoid disappointment.\n \n
URL:https://scuchsa.com.au/event/grilled-thursday/
LOCATION:SCU Uni Lounge\, CHEC Hogbin Drive\, Coffs Harbour\, N\, 2450\, Australia
CATEGORIES:Free Lunch
ORGANIZER;CN="CHSA":MAILTO:chsa@scu.edu.au
END:VEVENT
END:VCALENDAR