BEGIN:VCALENDAR
VERSION:2.0
PRODID:-//Coffs Harbour Student Association - ECPv4.9.13//NONSGML v1.0//EN
CALSCALE:GREGORIAN
METHOD:PUBLISH
X-WR-CALNAME:Coffs Harbour Student Association
X-ORIGINAL-URL:https://scuchsa.com.au
X-WR-CALDESC:Events for Coffs Harbour Student Association
BEGIN:VTIMEZONE
TZID:Australia/Sydney
BEGIN:STANDARD
TZOFFSETFROM:+1100
TZOFFSETTO:+1000
TZNAME:AEST
DTSTART:20200404T160000
END:STANDARD
BEGIN:DAYLIGHT
TZOFFSETFROM:+1000
TZOFFSETTO:+1100
TZNAME:AEDT
DTSTART:20201003T160000
END:DAYLIGHT
END:VTIMEZONE
BEGIN:VEVENT
DTSTART;TZID=Australia/Sydney:20200304T123000
DTEND;TZID=Australia/Sydney:20200304T143000
DTSTAMP:20200227T184325
CREATED:20200130T054928Z
LAST-MODIFIED:20200130T054928Z
UID:7730-1583325000-1583332200@scuchsa.com.au
SUMMARY:Free Lunch Wednesday!
DESCRIPTION:Free Lunch Wednesday!!\nFree lunch Wednesday is held in the University Lounge at 12.30pm. \nCheck out our Facebook or Instagram page to see what’s on the menu each week. Gluten-free & vegetarian options are available. \n \n  \n
URL:https://scuchsa.com.au/event/free-lunch-wednesday/
LOCATION:SCU Uni Lounge\, CHEC Hogbin Drive\, Coffs Harbour\, N\, 2450\, Australia
CATEGORIES:Free Lunch
ORGANIZER;CN="CHSA":MAILTO:chsa@scu.edu.au
END:VEVENT
END:VCALENDAR